BEGIN:VCALENDAR
VERSION:2.0
CREATED:20231106T191337Z
PRODID:-//Exxon Mobil Corporation/Equisolve Calendar v1.0//EN
METHOD:PUBLISH
BEGIN:VEVENT
UID:2723ed310ca1a14c2e536d9644d1292a
DTSTAMP:20260420T053516Z
DTSTART:20231206T150000Z
DTEND:20231206T160000Z
SUMMARY:Corporate Plan (December 2023)
DESCRIPTION:Corporate Plan (December 2023)\n\nDate: Dec 6\, 2023 9:00 AM CDT
END:VEVENT
END:VCALENDAR
